BEGIN:VCALENDAR
VERSION:2.0
PRODID:-//Ribe Pensionistforening - ECPv6.15.20//NONSGML v1.0//EN
CALSCALE:GREGORIAN
METHOD:PUBLISH
X-ORIGINAL-URL:https://ribepf.dk
X-WR-CALDESC:Begivenheder for Ribe Pensionistforening
REFRESH-INTERVAL;VALUE=DURATION:PT1H
X-Robots-Tag:noindex
X-PUBLISHED-TTL:PT1H
BEGIN:VTIMEZONE
TZID:Europe/Copenhagen
BEGIN:DAYLIGHT
TZOFFSETFROM:+0100
TZOFFSETTO:+0200
TZNAME:CEST
DTSTART:20240331T010000
END:DAYLIGHT
BEGIN:STANDARD
TZOFFSETFROM:+0200
TZOFFSETTO:+0100
TZNAME:CET
DTSTART:20241027T010000
END:STANDARD
BEGIN:DAYLIGHT
TZOFFSETFROM:+0100
TZOFFSETTO:+0200
TZNAME:CEST
DTSTART:20250330T010000
END:DAYLIGHT
BEGIN:STANDARD
TZOFFSETFROM:+0200
TZOFFSETTO:+0100
TZNAME:CET
DTSTART:20251026T010000
END:STANDARD
BEGIN:DAYLIGHT
TZOFFSETFROM:+0100
TZOFFSETTO:+0200
TZNAME:CEST
DTSTART:20260329T010000
END:DAYLIGHT
BEGIN:STANDARD
TZOFFSETFROM:+0200
TZOFFSETTO:+0100
TZNAME:CET
DTSTART:20261025T010000
END:STANDARD
END:VTIMEZONE
BEGIN:VEVENT
DTSTART;TZID=Europe/Copenhagen:20250127T130000
DTEND;TZID=Europe/Copenhagen:20250127T180000
DTSTAMP:20260424T172124
CREATED:20241026T161824Z
LAST-MODIFIED:20241026T162637Z
UID:114-1737982800-1738000800@ribepf.dk
SUMMARY:Generalforsamling 2025
DESCRIPTION:Generalforsamling for medlemmer\, inkl. forplejning. \nBindende tilmelding senest den 22.01.25 \nAlle tilmeldinger kan ske til: Hanne Vejrup 24602317 eller Doris Nielsen 61780133.
URL:https://ribepf.dk/event/generalforsamling-2025
LOCATION:Ribe Fritidscenter\, Sportsvej 8\, Ribe\, 6760\, Danmark
ORGANIZER;CN="Ribe Pensionist Forening":MAILTO:info@ribepf.dk
END:VEVENT
END:VCALENDAR