BEGIN:VCALENDAR
VERSION:2.0
PRODID:-//Ribe Pensionistforening - ECPv6.15.20//NONSGML v1.0//EN
CALSCALE:GREGORIAN
METHOD:PUBLISH
X-ORIGINAL-URL:https://ribepf.dk
X-WR-CALDESC:Begivenheder for Ribe Pensionistforening
REFRESH-INTERVAL;VALUE=DURATION:PT1H
X-Robots-Tag:noindex
X-PUBLISHED-TTL:PT1H
BEGIN:VTIMEZONE
TZID:Europe/Copenhagen
BEGIN:DAYLIGHT
TZOFFSETFROM:+0100
TZOFFSETTO:+0200
TZNAME:CEST
DTSTART:20240331T010000
END:DAYLIGHT
BEGIN:STANDARD
TZOFFSETFROM:+0200
TZOFFSETTO:+0100
TZNAME:CET
DTSTART:20241027T010000
END:STANDARD
BEGIN:DAYLIGHT
TZOFFSETFROM:+0100
TZOFFSETTO:+0200
TZNAME:CEST
DTSTART:20250330T010000
END:DAYLIGHT
BEGIN:STANDARD
TZOFFSETFROM:+0200
TZOFFSETTO:+0100
TZNAME:CET
DTSTART:20251026T010000
END:STANDARD
BEGIN:DAYLIGHT
TZOFFSETFROM:+0100
TZOFFSETTO:+0200
TZNAME:CEST
DTSTART:20260329T010000
END:DAYLIGHT
BEGIN:STANDARD
TZOFFSETFROM:+0200
TZOFFSETTO:+0100
TZNAME:CET
DTSTART:20261025T010000
END:STANDARD
END:VTIMEZONE
BEGIN:VEVENT
DTSTART;TZID=Europe/Copenhagen:20250324T120000
DTEND;TZID=Europe/Copenhagen:20250324T160000
DTSTAMP:20260425T124406
CREATED:20241026T162133Z
LAST-MODIFIED:20241026T162701Z
UID:118-1742817600-1742832000@ribepf.dk
SUMMARY:Forårsfest med spisning
DESCRIPTION:Forårsfest med spisning og dans til Torbens skønne musik. \nPris oplyses senere. Bindende tilmelding senest den 19.03.25. \nAlle tilmeldinger kan ske til: Hanne Vejrup 24602317 eller Doris Nielsen 61780133.
URL:https://ribepf.dk/event/foraarsfest-med-spisning
LOCATION:Ribe Fritidscenter\, Sportsvej 8\, Ribe\, 6760\, Danmark
ORGANIZER;CN="Ribe Pensionist Forening":MAILTO:info@ribepf.dk
END:VEVENT
END:VCALENDAR