BEGIN:VCALENDAR
VERSION:2.0
PRODID:-//Ribe Pensionistforening - ECPv6.15.20//NONSGML v1.0//EN
CALSCALE:GREGORIAN
METHOD:PUBLISH
X-WR-CALNAME:Ribe Pensionistforening
X-ORIGINAL-URL:https://ribepf.dk
X-WR-CALDESC:Begivenheder for Ribe Pensionistforening
REFRESH-INTERVAL;VALUE=DURATION:PT1H
X-Robots-Tag:noindex
X-PUBLISHED-TTL:PT1H
BEGIN:VTIMEZONE
TZID:Europe/Copenhagen
BEGIN:DAYLIGHT
TZOFFSETFROM:+0100
TZOFFSETTO:+0200
TZNAME:CEST
DTSTART:20240331T010000
END:DAYLIGHT
BEGIN:STANDARD
TZOFFSETFROM:+0200
TZOFFSETTO:+0100
TZNAME:CET
DTSTART:20241027T010000
END:STANDARD
BEGIN:DAYLIGHT
TZOFFSETFROM:+0100
TZOFFSETTO:+0200
TZNAME:CEST
DTSTART:20250330T010000
END:DAYLIGHT
BEGIN:STANDARD
TZOFFSETFROM:+0200
TZOFFSETTO:+0100
TZNAME:CET
DTSTART:20251026T010000
END:STANDARD
BEGIN:DAYLIGHT
TZOFFSETFROM:+0100
TZOFFSETTO:+0200
TZNAME:CEST
DTSTART:20260329T010000
END:DAYLIGHT
BEGIN:STANDARD
TZOFFSETFROM:+0200
TZOFFSETTO:+0100
TZNAME:CET
DTSTART:20261025T010000
END:STANDARD
END:VTIMEZONE
BEGIN:VEVENT
DTSTART;TZID=Europe/Copenhagen:20250519T130000
DTEND;TZID=Europe/Copenhagen:20250519T160000
DTSTAMP:20260423T093851
CREATED:20241026T162523Z
LAST-MODIFIED:20250201T091306Z
UID:122-1747659600-1747670400@ribepf.dk
SUMMARY:Foredrag med John Frikke
DESCRIPTION:Foredrag ved naturkonsulent John Frikke\, som levende fortæller om Vadehavet. John er oprindelig skolelærer\, men har nu i en del år beskæftiget sig med naturen lige omkring os. \nPris inkl. kage og kaffe\, kr. 95.-. Ikke medlemmer kr. 190\,-. \nBindende tilmelding senest den 14.05.25. \nAlle tilmeldinger kan ske til: Hanne Vejrup 24602317 eller Doris Nielsen 61780133.
URL:https://ribepf.dk/event/foredrag-med-john-frikke
LOCATION:Ribe Fritidscenter\, Sportsvej 8\, Ribe\, 6760\, Danmark
ORGANIZER;CN="Ribe Pensionist Forening":MAILTO:info@ribepf.dk
END:VEVENT
END:VCALENDAR